BEGIN:VCALENDAR
PRODID:templ5.webt.iee.ihu.gr
VERSION:2.0
CALSCALE:GREGORIAN
X-WR-TIMEZONE:Europe/Athens
METHOD:PUBLISH
BEGIN:VEVENT
DTSTART:20240611T110000
DTEND:20240611T130000
DTSTAMP:20240415T014141
CREATED:20240415T014141
SUMMARY:Χρηματοοικονομική Λογιστική: 
DESCRIPTION: (205) Χρηματοοικονομική Λογιστική, 2o εξάμηνο, 
URL:https://www.ba.ihu.gr/courses/205/
UID: 4162-1
LAST-MODIFIED:20240520T131929
TRANSP:OPAQUE
END:VEVENT
BEGIN:VEVENT
DTSTART:20240613T110000
DTEND:20240613T130000
DTSTAMP:20240415T014141
CREATED:20240415T014141
SUMMARY:Στατιστική ΙΙ: 
DESCRIPTION: (202) Στατιστική ΙΙ, 2o εξάμηνο, 
URL:https://www.ba.ihu.gr/courses/202/
UID: 4162-2
LAST-MODIFIED:20240520T131929
TRANSP:OPAQUE
END:VEVENT
BEGIN:VEVENT
DTSTART:20240614T180000
DTEND:20240614T200000
DTSTAMP:20240415T014141
CREATED:20240415T014141
SUMMARY:Αγγλικά για Διοίκηση Επιχειρήσεων ΙΙ: 
DESCRIPTION: (207) Αγγλικά για Διοίκηση Επιχειρήσεων ΙΙ, 2o εξάμηνο, 
URL:https://www.ba.ihu.gr/courses/207/
UID: 4162-3
LAST-MODIFIED:20240520T131929
TRANSP:OPAQUE
END:VEVENT
BEGIN:VEVENT
DTSTART:20240618T180000
DTEND:20240618T200000
DTSTAMP:20240415T014141
CREATED:20240415T014141
SUMMARY:Οικονομικά Μαθηματικά: 
DESCRIPTION: (204) Οικονομικά Μαθηματικά, 2o εξάμηνο, 
URL:https://www.ba.ihu.gr/courses/204/
UID: 4162-4
LAST-MODIFIED:20240520T131929
TRANSP:OPAQUE
END:VEVENT
BEGIN:VEVENT
DTSTART:20240620T180000
DTEND:20240620T200000
DTSTAMP:20240415T014141
CREATED:20240415T014141
SUMMARY:Βάσεις Δεδομένων: 
DESCRIPTION: (203) Βάσεις Δεδομένων, 2o εξάμηνο, 
URL:https://www.ba.ihu.gr/courses/203/
UID: 4162-5
LAST-MODIFIED:20240520T131929
TRANSP:OPAQUE
END:VEVENT
BEGIN:VEVENT
DTSTART:20240625T090000
DTEND:20240625T110000
DTSTAMP:20240415T014141
CREATED:20240415T014141
SUMMARY:Μικροοικονομική: 
DESCRIPTION: (201) Μικροοικονομική, 2o εξάμηνο, 
URL:https://www.ba.ihu.gr/courses/201/
UID: 4162-6
LAST-MODIFIED:20240520T131929
TRANSP:OPAQUE
END:VEVENT
BEGIN:VEVENT
DTSTART:20240628T160000
DTEND:20240628T180000
DTSTAMP:20240415T014141
CREATED:20240415T014141
SUMMARY:Ευρωπαϊκή Ένωση και Ευρωπαϊκή Οικονομική Ολοκλήρωση: 
DESCRIPTION: (206) Ευρωπαϊκή Ένωση και Ευρωπαϊκή Οικονομική Ολοκλήρωση, 2o εξάμηνο, 
URL:https://www.ba.ihu.gr/courses/206/
UID: 4162-7
LAST-MODIFIED:20240520T131929
TRANSP:OPAQUE
END:VEVENT
BEGIN:VEVENT
DTSTART:20240613T090000
DTEND:20240613T110000
DTSTAMP:20240415T014141
CREATED:20240415T014141
SUMMARY:Διοίκηση Δικτύου Διανομών (Logistics): 
DESCRIPTION: (403) Διοίκηση Δικτύου Διανομών (Logistics), 4ο εξάμηνο, 
URL:https://www.ba.ihu.gr/courses/403/
UID: 4162-8
LAST-MODIFIED:20240520T131929
TRANSP:OPAQUE
END:VEVENT
BEGIN:VEVENT
DTSTART:20240617T110000
DTEND:20240617T130000
DTSTAMP:20240415T014141
CREATED:20240415T014141
SUMMARY:Δημόσιες Σχέσεις: 
DESCRIPTION: (406) Δημόσιες Σχέσεις, 4ο εξάμηνο, 
URL:https://www.ba.ihu.gr/courses/406/
UID: 4162-9
LAST-MODIFIED:20240520T131929
TRANSP:OPAQUE
END:VEVENT
BEGIN:VEVENT
DTSTART:20240618T160000
DTEND:20240618T180000
DTSTAMP:20240415T014141
CREATED:20240415T014141
SUMMARY:Ποσοτικές Μέθοδοι στη Λήψη Διοικητικών Αποφάσεων Ι: Δημητριάδης
DESCRIPTION: (401) Ποσοτικές Μέθοδοι στη Λήψη Διοικητικών Αποφάσεων Ι, 4ο εξάμηνο, Δημητριάδης
URL:https://www.ba.ihu.gr/courses/401/
UID: 4162-10
LAST-MODIFIED:20240520T131929
TRANSP:OPAQUE
END:VEVENT
BEGIN:VEVENT
DTSTART:20240625T110000
DTEND:20240625T130000
DTSTAMP:20240415T014141
CREATED:20240415T014141
SUMMARY:Συμπεριφορά Καταναλωτή: 
DESCRIPTION: (405) Συμπεριφορά Καταναλωτή, 4ο εξάμηνο, 
URL:https://www.ba.ihu.gr/courses/405/
UID: 4162-11
LAST-MODIFIED:20240520T131929
TRANSP:OPAQUE
END:VEVENT
BEGIN:VEVENT
DTSTART:20240626T180000
DTEND:20240626T200000
DTSTAMP:20240415T014141
CREATED:20240415T014141
SUMMARY:Διοίκηση Πωλήσεων: 
DESCRIPTION: (404) Διοίκηση Πωλήσεων, 4ο εξάμηνο, 
URL:https://www.ba.ihu.gr/courses/404/
UID: 4162-12
LAST-MODIFIED:20240520T131929
TRANSP:OPAQUE
END:VEVENT
BEGIN:VEVENT
DTSTART:20240628T180000
DTEND:20240628T200000
DTSTAMP:20240415T014141
CREATED:20240415T014141
SUMMARY:Χρηματοοικονομική  Διοίκηση: 
DESCRIPTION: (402) Χρηματοοικονομική  Διοίκηση, 4ο εξάμηνο, 
URL:https://www.ba.ihu.gr/courses/402/
UID: 4162-13
LAST-MODIFIED:20240520T131929
TRANSP:OPAQUE
END:VEVENT
BEGIN:VEVENT
DTSTART:20240611T090000
DTEND:20240611T110000
DTSTAMP:20240415T014141
CREATED:20240415T014141
SUMMARY:Εταιρική Κοινωνική Ευθύνη και Ηθική: 
DESCRIPTION: (603) Εταιρική Κοινωνική Ευθύνη και Ηθική, 6ο εξάμηνο, 
URL:https://www.ba.ihu.gr/courses/603/
UID: 4162-14
LAST-MODIFIED:20240520T131929
TRANSP:OPAQUE
END:VEVENT
BEGIN:VEVENT
DTSTART:20240617T090000
DTEND:20240617T110000
DTSTAMP:20240415T014141
CREATED:20240415T014141
SUMMARY:Ηλεκτρονικό Εμπόριο: 
DESCRIPTION: (602) Ηλεκτρονικό Εμπόριο, 6ο εξάμηνο, 
URL:https://www.ba.ihu.gr/courses/602/
UID: 4162-15
LAST-MODIFIED:20240520T131929
TRANSP:OPAQUE
END:VEVENT
BEGIN:VEVENT
DTSTART:20240620T160000
DTEND:20240620T180000
DTSTAMP:20240415T014141
CREATED:20240415T014141
SUMMARY:Διοίκηση Παραγωγής και Λειτουργιών: Δημητριάδης
DESCRIPTION: (601) Διοίκηση Παραγωγής και Λειτουργιών, 6ο εξάμηνο, Δημητριάδης
URL:https://www.ba.ihu.gr/courses/601/
UID: 4162-16
LAST-MODIFIED:20240520T131929
TRANSP:OPAQUE
END:VEVENT
BEGIN:VEVENT
DTSTART:20240612T160000
DTEND:20240612T180000
DTSTAMP:20240415T014141
CREATED:20240415T014141
SUMMARY:Στρατηγική Επιχειρήσεων: 
DESCRIPTION: (801) Στρατηγική Επιχειρήσεων, 8ο εξάμηνο, 
URL:https://www.ba.ihu.gr/courses/801/
UID: 4162-17
LAST-MODIFIED:20240520T131929
TRANSP:OPAQUE
END:VEVENT
BEGIN:VEVENT
DTSTART:20240614T160000
DTEND:20240614T180000
DTSTAMP:20240415T014141
CREATED:20240415T014141
SUMMARY:Διοικητική Λογιστική: 
DESCRIPTION: (803) Διοικητική Λογιστική, 8ο εξάμηνο, 
URL:https://www.ba.ihu.gr/courses/803/
UID: 4162-18
LAST-MODIFIED:20240520T131929
TRANSP:OPAQUE
END:VEVENT
BEGIN:VEVENT
DTSTART:20240626T160000
DTEND:20240626T180000
DTSTAMP:20240415T014141
CREATED:20240415T014141
SUMMARY:Εργασιακές Σχέσεις: 
DESCRIPTION: (802) Εργασιακές Σχέσεις, 8ο εξάμηνο, 
URL:https://www.ba.ihu.gr/courses/802/
UID: 4162-19
LAST-MODIFIED:20240520T131929
TRANSP:OPAQUE
END:VEVENT
BEGIN:VEVENT
DTSTART:20240612T140000
DTEND:20240612T160000
DTSTAMP:20240415T014141
CREATED:20240415T014141
SUMMARY:Ειδικά Θέματα Επιχειρησιακής Έρευνας: 
DESCRIPTION: (Γ13) Ειδικά Θέματα Επιχειρησιακής Έρευνας, 6ο εξάμηνο, 
URL:https://www.ba.ihu.gr/courses/%ce%b313/
UID: 4162-20
LAST-MODIFIED:20240520T131929
TRANSP:OPAQUE
END:VEVENT
BEGIN:VEVENT
DTSTART:20240612T140000
DTEND:20240612T160000
DTSTAMP:20240415T014141
CREATED:20240415T014141
SUMMARY:Ειδικά Θέματα Επιχειρησιακής Έρευνας: 
DESCRIPTION: (Γ13) Ειδικά Θέματα Επιχειρησιακής Έρευνας, 8ο εξάμηνο, 
URL:https://www.ba.ihu.gr/courses/%ce%b313/
UID: 4162-21
LAST-MODIFIED:20240520T131929
TRANSP:OPAQUE
END:VEVENT
BEGIN:VEVENT
DTSTART:20240612T180000
DTEND:20240612T200000
DTSTAMP:20240415T014141
CREATED:20240415T014141
SUMMARY:Ανάπτυξη Διαδικτυακών Εφαρμογών: 
DESCRIPTION: (Γ11) Ανάπτυξη Διαδικτυακών Εφαρμογών, 6ο εξάμηνο, 
URL:https://www.ba.ihu.gr/courses/%ce%b311/
UID: 4162-22
LAST-MODIFIED:20240520T131929
TRANSP:OPAQUE
END:VEVENT
BEGIN:VEVENT
DTSTART:20240612T180000
DTEND:20240612T200000
DTSTAMP:20240415T014141
CREATED:20240415T014141
SUMMARY:Ανάπτυξη Διαδικτυακών Εφαρμογών: 
DESCRIPTION: (Γ11) Ανάπτυξη Διαδικτυακών Εφαρμογών, 8ο εξάμηνο, 
URL:https://www.ba.ihu.gr/courses/%ce%b311/
UID: 4162-23
LAST-MODIFIED:20240520T131929
TRANSP:OPAQUE
END:VEVENT
BEGIN:VEVENT
DTSTART:20240613T130000
DTEND:20240613T150000
DTSTAMP:20240415T014141
CREATED:20240415T014141
SUMMARY:Ειδικά Θέματα Εφαρμοσμένης  Στατιστικής: 
DESCRIPTION: (Α12) Ειδικά Θέματα Εφαρμοσμένης  Στατιστικής, 6ο εξάμηνο, 
URL:https://www.ba.ihu.gr/courses/%ce%b112/
UID: 4162-24
LAST-MODIFIED:20240520T131929
TRANSP:OPAQUE
END:VEVENT
BEGIN:VEVENT
DTSTART:20240613T130000
DTEND:20240613T150000
DTSTAMP:20240415T014141
CREATED:20240415T014141
SUMMARY:Ειδικά Θέματα Εφαρμοσμένης  Στατιστικής: 
DESCRIPTION: (Α12) Ειδικά Θέματα Εφαρμοσμένης  Στατιστικής, 8ο εξάμηνο, 
URL:https://www.ba.ihu.gr/courses/%ce%b112/
UID: 4162-25
LAST-MODIFIED:20240520T131929
TRANSP:OPAQUE
END:VEVENT
BEGIN:VEVENT
DTSTART:20240618T140000
DTEND:20240618T160000
DTSTAMP:20240415T014141
CREATED:20240415T014141
SUMMARY:Επιχειρηματική Ευφυία και Επιχειρηματική Αναλυτική: 
DESCRIPTION: (Γ12) Επιχειρηματική Ευφυία και Επιχειρηματική Αναλυτική, 6ο εξάμηνο, 
URL:https://www.ba.ihu.gr/courses/%ce%b312/
UID: 4162-26
LAST-MODIFIED:20240520T131929
TRANSP:OPAQUE
END:VEVENT
BEGIN:VEVENT
DTSTART:20240618T140000
DTEND:20240618T160000
DTSTAMP:20240415T014141
CREATED:20240415T014141
SUMMARY:Επιχειρηματική Ευφυία και Επιχειρηματική Αναλυτική: 
DESCRIPTION: (Γ12) Επιχειρηματική Ευφυία και Επιχειρηματική Αναλυτική, 8ο εξάμηνο, 
URL:https://www.ba.ihu.gr/courses/%ce%b312/
UID: 4162-27
LAST-MODIFIED:20240520T131929
TRANSP:OPAQUE
END:VEVENT
BEGIN:VEVENT
DTSTART:20240619T090000
DTEND:20240619T110000
DTSTAMP:20240415T014141
CREATED:20240415T014141
SUMMARY:Ηγεσία και Διαχείριση Αλλαγών: 
DESCRIPTION: (Β09) Ηγεσία και Διαχείριση Αλλαγών, 6ο εξάμηνο, 
URL:https://www.ba.ihu.gr/courses/%ce%b209/
UID: 4162-28
LAST-MODIFIED:20240520T131929
TRANSP:OPAQUE
END:VEVENT
BEGIN:VEVENT
DTSTART:20240619T110000
DTEND:20240619T130000
DTSTAMP:20240415T014141
CREATED:20240415T014141
SUMMARY:Διοίκηση Οργανισμών: 
DESCRIPTION: (Β10) Διοίκηση Οργανισμών, 6ο εξάμηνο, 
URL:https://www.ba.ihu.gr/courses/%ce%b210/
UID: 4162-29
LAST-MODIFIED:20240520T131929
TRANSP:OPAQUE
END:VEVENT
BEGIN:VEVENT
DTSTART:20240619T110000
DTEND:20240619T130000
DTSTAMP:20240415T014141
CREATED:20240415T014141
SUMMARY:Διοίκηση Οργανισμών: 
DESCRIPTION: (Β10) Διοίκηση Οργανισμών, 8ο εξάμηνο, 
URL:https://www.ba.ihu.gr/courses/%ce%b210/
UID: 4162-30
LAST-MODIFIED:20240520T131929
TRANSP:OPAQUE
END:VEVENT
BEGIN:VEVENT
DTSTART:20240619T090000
DTEND:20240619T110000
DTSTAMP:20240415T014141
CREATED:20240415T014141
SUMMARY:Ηγεσία και Διαχείριση Αλλαγών: 
DESCRIPTION: (Β09) Ηγεσία και Διαχείριση Αλλαγών, 8ο εξάμηνο, 
URL:https://www.ba.ihu.gr/courses/%ce%b209/
UID: 4162-31
LAST-MODIFIED:20240520T131929
TRANSP:OPAQUE
END:VEVENT
BEGIN:VEVENT
DTSTART:20240619T140000
DTEND:20240619T160000
DTSTAMP:20240415T014141
CREATED:20240415T014141
SUMMARY:Ειδικά Θέματα Επικοινωνίας και Δημοσίων Σχέσεων: 
DESCRIPTION: (Β12) Ειδικά Θέματα Επικοινωνίας και Δημοσίων Σχέσεων, 6ο εξάμηνο, 
URL:https://www.ba.ihu.gr/courses/%ce%b212/
UID: 4162-32
LAST-MODIFIED:20240520T131929
TRANSP:OPAQUE
END:VEVENT
BEGIN:VEVENT
DTSTART:20240619T140000
DTEND:20240619T160000
DTSTAMP:20240415T014141
CREATED:20240415T014141
SUMMARY:Ειδικά Θέματα Επικοινωνίας και Δημοσίων Σχέσεων: 
DESCRIPTION: (Β12) Ειδικά Θέματα Επικοινωνίας και Δημοσίων Σχέσεων, 8ο εξάμηνο, 
URL:https://www.ba.ihu.gr/courses/%ce%b212/
UID: 4162-33
LAST-MODIFIED:20240520T131929
TRANSP:OPAQUE
END:VEVENT
BEGIN:VEVENT
DTSTART:20240621T090000
DTEND:20240621T110000
DTSTAMP:20240415T014141
CREATED:20240415T014141
SUMMARY:Λογιστική Εταιρειών: Καραγιώργος
DESCRIPTION: (Α08) Λογιστική Εταιρειών, 6ο εξάμηνο, Καραγιώργος
URL:https://www.ba.ihu.gr/courses/%ce%b108/
UID: 4162-34
LAST-MODIFIED:20240520T131929
TRANSP:OPAQUE
END:VEVENT
BEGIN:VEVENT
DTSTART:20240621T090000
DTEND:20240621T110000
DTSTAMP:20240415T014141
CREATED:20240415T014141
SUMMARY:Λογιστική Εταιρειών: Καραγιώργος
DESCRIPTION: (Α08) Λογιστική Εταιρειών, 8ο εξάμηνο, Καραγιώργος
URL:https://www.ba.ihu.gr/courses/%ce%b108/
UID: 4162-35
LAST-MODIFIED:20240520T131929
TRANSP:OPAQUE
END:VEVENT
BEGIN:VEVENT
DTSTART:20240621T110000
DTEND:20240621T130000
DTSTAMP:20240415T014141
CREATED:20240415T014141
SUMMARY:Ελεγκτική: 
DESCRIPTION: (Α11) Ελεγκτική, 6ο εξάμηνο, 
URL:https://www.ba.ihu.gr/courses/%ce%b111/
UID: 4162-36
LAST-MODIFIED:20240520T131929
TRANSP:OPAQUE
END:VEVENT
BEGIN:VEVENT
DTSTART:20240621T110000
DTEND:20240621T130000
DTSTAMP:20240415T014141
CREATED:20240415T014141
SUMMARY:Ελεγκτική: 
DESCRIPTION: (Α11) Ελεγκτική, 8ο εξάμηνο, 
URL:https://www.ba.ihu.gr/courses/%ce%b111/
UID: 4162-37
LAST-MODIFIED:20240520T131929
TRANSP:OPAQUE
END:VEVENT
BEGIN:VEVENT
DTSTART:20240621T130000
DTEND:20240621T150000
DTSTAMP:20240415T014141
CREATED:20240415T014141
SUMMARY:Διοίκηση Καινοτομίας και Τεχνολογίας: 
DESCRIPTION: (Γ09) Διοίκηση Καινοτομίας και Τεχνολογίας, 6ο εξάμηνο, 
URL:https://www.ba.ihu.gr/courses/%ce%b309/
UID: 4162-38
LAST-MODIFIED:20240520T131929
TRANSP:OPAQUE
END:VEVENT
BEGIN:VEVENT
DTSTART:20240621T130000
DTEND:20240621T150000
DTSTAMP:20240415T014141
CREATED:20240415T014141
SUMMARY:Διοίκηση Καινοτομίας και Τεχνολογίας: 
DESCRIPTION: (Γ09) Διοίκηση Καινοτομίας και Τεχνολογίας, 8ο εξάμηνο, 
URL:https://www.ba.ihu.gr/courses/%ce%b309/
UID: 4162-39
LAST-MODIFIED:20240520T131929
TRANSP:OPAQUE
END:VEVENT
BEGIN:VEVENT
DTSTART:20240625T130000
DTEND:20240625T150000
DTSTAMP:20240415T014141
CREATED:20240415T014141
SUMMARY:Διοίκηση Έργων: 
DESCRIPTION: (Γ10) Διοίκηση Έργων, 6ο εξάμηνο, 
URL:https://www.ba.ihu.gr/courses/%ce%b310/
UID: 4162-40
LAST-MODIFIED:20240520T131929
TRANSP:OPAQUE
END:VEVENT
BEGIN:VEVENT
DTSTART:20240625T130000
DTEND:20240625T150000
DTSTAMP:20240415T014141
CREATED:20240415T014141
SUMMARY:Διοίκηση Έργων: 
DESCRIPTION: (Γ10) Διοίκηση Έργων, 8ο εξάμηνο, 
URL:https://www.ba.ihu.gr/courses/%ce%b310/
UID: 4162-41
LAST-MODIFIED:20240520T131929
TRANSP:OPAQUE
END:VEVENT
BEGIN:VEVENT
DTSTART:20240626T140000
DTEND:20240626T160000
DTSTAMP:20240415T014141
CREATED:20240415T014141
SUMMARY:Διοίκηση Μ.Μ.Ε.: 
DESCRIPTION: (Β08) Διοίκηση Μ.Μ.Ε., 6ο εξάμηνο, 
URL:https://www.ba.ihu.gr/courses/%ce%b208/
UID: 4162-42
LAST-MODIFIED:20240520T131929
TRANSP:OPAQUE
END:VEVENT
BEGIN:VEVENT
DTSTART:20240626T140000
DTEND:20240626T160000
DTSTAMP:20240415T014141
CREATED:20240415T014141
SUMMARY:Διοίκηση Μ.Μ.Ε.: 
DESCRIPTION: (Β08) Διοίκηση Μ.Μ.Ε., 8ο εξάμηνο, 
URL:https://www.ba.ihu.gr/courses/%ce%b208/
UID: 4162-43
LAST-MODIFIED:20240520T131929
TRANSP:OPAQUE
END:VEVENT
BEGIN:VEVENT
DTSTART:20240628T140000
DTEND:20240628T160000
DTSTAMP:20240415T014141
CREATED:20240415T014141
SUMMARY:Ηλεκτρονική Διακυβέρνηση: Καραβασίλης
DESCRIPTION: (Γ08) Ηλεκτρονική Διακυβέρνηση, 6ο εξάμηνο, Καραβασίλης
URL:https://www.ba.ihu.gr/courses/%ce%b308/
UID: 4162-44
LAST-MODIFIED:20240520T131929
TRANSP:OPAQUE
END:VEVENT
BEGIN:VEVENT
DTSTART:20240628T140000
DTEND:20240628T160000
DTSTAMP:20240415T014141
CREATED:20240415T014141
SUMMARY:Ηλεκτρονική Διακυβέρνηση: Καραβασίλης
DESCRIPTION: (Γ08) Ηλεκτρονική Διακυβέρνηση, 8ο εξάμηνο, Καραβασίλης
URL:https://www.ba.ihu.gr/courses/%ce%b308/
UID: 4162-45
LAST-MODIFIED:20240520T131929
TRANSP:OPAQUE
END:VEVENT
END:VCALENDAR