BEGIN:VCALENDAR
PRODID:templ5.webt.iee.ihu.gr
VERSION:2.0
CALSCALE:GREGORIAN
X-WR-TIMEZONE:Europe/Athens
METHOD:PUBLISH
BEGIN:VEVENT
DTSTART:20251109T120000
DTEND:20251127T120000
DTSTAMP:20251111T015006
CREATED:20251111T015006
SUMMARY:Ημέρες Έρευνας &#038; Καινοτομίας 2025: 26 &#038; 27 Νοεμβρίου 2025
DESCRIPTION:{"color": "#ED6663"}
URL:https://www.ba.ihu.gr/en/events/6073/
UID: EVENT-6073
LAST-MODIFIED:20251111T151526
TRANSP:OPAQUE
END:VEVENT
BEGIN:VEVENT
DTSTART:20251106T220000
DTEND:20251118T220000
DTSTAMP:20251107T132136
CREATED:20251107T132136
SUMMARY:Ομιλία του κ. Τσινάβου (Διευθύνων Σύμβουλος ΚΡΙ ΚΡΙ Α.Ε.) για την Επιχειρηματικότητα: Τρίτη 18/11/2025 11:00 π.μ.
DESCRIPTION:{"color": "#B52B65"}
URL:https://www.ba.ihu.gr/en/events/%ce%bf%ce%bc%ce%b9%ce%bb%ce%af%ce%b1-%cf%84%ce%bf%cf%85-%ce%ba-%cf%84%cf%83%ce%b9%ce%bd%ce%ac%ce%b2%ce%bf%cf%85-%ce%b4%ce%b9%ce%b5%cf%85%ce%b8%cf%8d%ce%bd%cf%89%ce%bd-%cf%83%cf%8d%ce%bc%ce%b2%ce%bf/
UID: EVENT-6054
LAST-MODIFIED:20251107T132136
TRANSP:OPAQUE
END:VEVENT
BEGIN:VEVENT
DTSTART:20251015T210000
DTEND:20251205T220000
DTSTAMP:20251018T011947
CREATED:20251018T011947
SUMMARY:Έκθεση ζωγραφικής διασήμων ελλήνων καλλιτεχνών
DESCRIPTION:{"color": "#864879"}
URL:https://www.ba.ihu.gr/en/events/%ce%ad%ce%ba%ce%b8%ce%b5%cf%83%ce%b7-%ce%b6%cf%89%ce%b3%cf%81%ce%b1%cf%86%ce%b9%ce%ba%ce%ae%cf%82-%ce%b4%ce%b9%ce%b1%cf%83%ce%ae%ce%bc%cf%89%ce%bd-%ce%b5%ce%bb%ce%bb%ce%ae%ce%bd%cf%89%ce%bd-%ce%ba/
UID: EVENT-5969
LAST-MODIFIED:20251018T011947
TRANSP:OPAQUE
END:VEVENT
BEGIN:VEVENT
DTSTART:20251021T060000
DTEND:20251021T120000
DTSTAMP:20251016T173617
CREATED:20251016T173617
SUMMARY:Τελετή Αγιασμού για την έναρξη της Νέας Ακαδημαϊκής Χρονιάς
DESCRIPTION:{"color": "#A13333"}
URL:https://www.ba.ihu.gr/en/events/%cf%84%ce%b5%ce%bb%ce%b5%cf%84%ce%ae-%ce%b1%ce%b3%ce%b9%ce%b1%cf%83%ce%bc%ce%bf%cf%8d-%ce%b3%ce%b9%ce%b1-%cf%84%ce%b7%ce%bd-%ce%ad%ce%bd%ce%b1%cf%81%ce%be%ce%b7-%cf%84%ce%b7%cf%82-%ce%bd%ce%ad%ce%b1/
UID: EVENT-5964
LAST-MODIFIED:20251016T173801
TRANSP:OPAQUE
END:VEVENT
BEGIN:VEVENT
DTSTART:20251022T023000
DTEND:20251022T090000
DTSTAMP:20251016T173017
CREATED:20251016T173017
SUMMARY:Ύπαιθρος 4.0: Χτίζοντας τοπικά οικοσυστήματα με Ταλέντο &#038; Ανοιχτή Καινοτομία
DESCRIPTION:{"color": "2D4263"}
URL:https://www.ba.ihu.gr/en/events/5963/
UID: EVENT-5963
LAST-MODIFIED:20251016T173512
TRANSP:OPAQUE
END:VEVENT
BEGIN:VEVENT
DTSTART:20250528T083000
DTEND:20250528T100000
DTSTAMP:20250527T135736
CREATED:20250527T135736
SUMMARY:Σεμινάριο: Προετοιμασία για την αγορά εργασίας (28/5/2025, 11:30)
DESCRIPTION:{"color": "#ED6663"}
URL:https://www.ba.ihu.gr/en/events/%cf%83%ce%b5%ce%bc%ce%b9%ce%bd%ce%ac%cf%81%ce%b9%ce%bf-%cf%80%cf%81%ce%bf%ce%b5%cf%84%ce%bf%ce%b9%ce%bc%ce%b1%cf%83%ce%af%ce%b1-%ce%b3%ce%b9%ce%b1-%cf%84%ce%b7%ce%bd-%ce%b1%ce%b3%ce%bf%cf%81%ce%ac/
UID: EVENT-5440
LAST-MODIFIED:20250527T135736
TRANSP:OPAQUE
END:VEVENT
BEGIN:VEVENT
DTSTART:20241209T060000
DTEND:20241210T130000
DTSTAMP:20241130T131123
CREATED:20241130T131123
SUMMARY:Εκπαιδευτική εκδρομή στην εταιρεία ELVIAL
DESCRIPTION:{"color": "#B52B65"}
URL:https://www.ba.ihu.gr/en/events/%ce%b5%ce%ba%cf%80%ce%b1%ce%b9%ce%b4%ce%b5%cf%85%cf%84%ce%b9%ce%ba%ce%ae-%ce%b5%ce%ba%ce%b4%cf%81%ce%bf%ce%bc%ce%ae-%cf%83%cf%84%ce%b7%ce%bd-%ce%b5%cf%84%ce%b1%ce%b9%cf%81%ce%b5%ce%af%ce%b1-elvial/
UID: EVENT-4957
LAST-MODIFIED:20241130T131305
TRANSP:OPAQUE
END:VEVENT
BEGIN:VEVENT
DTSTART:20241209T050000
DTEND:20241209T070000
DTSTAMP:20241130T121414
CREATED:20241130T121414
SUMMARY:Ενημερωτική εκδήλωση // Εξερευνώντας την αγορά εργασίας: Προσόντα και δεξιότητες για μία επιτυχημένη καριέρα
DESCRIPTION:{"color": "#864879"}
URL:https://www.ba.ihu.gr/en/events/%ce%b5%ce%bd%ce%b7%ce%bc%ce%b5%cf%81%cf%89%cf%84%ce%b9%ce%ba%ce%ae-%ce%b5%ce%ba%ce%b4%ce%ae%ce%bb%cf%89%cf%83%ce%b7-%ce%b5%ce%be%ce%b5%cf%81%ce%b5%cf%85%ce%bd%cf%8e%ce%bd%cf%84%ce%b1%cf%82-%cf%84/
UID: EVENT-4956
LAST-MODIFIED:20241130T121710
TRANSP:OPAQUE
END:VEVENT
BEGIN:VEVENT
DTSTART:20241205T090000
DTEND:20241205T100000
DTSTAMP:20241114T201813
CREATED:20241114T201813
SUMMARY:Σεμινάριο: Οι υπηρεσίες της Βιβλιοθήκης για τη μελέτη και την έρευνα των φοιτητών
DESCRIPTION:{"color": "#A13333"}
URL:https://www.ba.ihu.gr/en/events/%cf%83%ce%b5%ce%bc%ce%b9%ce%bd%ce%ac%cf%81%ce%b9%ce%bf-%ce%bf%ce%b9-%cf%85%cf%80%ce%b7%cf%81%ce%b5%cf%83%ce%af%ce%b5%cf%82-%cf%84%ce%b7%cf%82-%ce%b2%ce%b9%ce%b2%ce%bb%ce%b9%ce%bf%ce%b8%ce%ae%ce%ba/
UID: EVENT-4912
LAST-MODIFIED:20241130T122005
TRANSP:OPAQUE
END:VEVENT
BEGIN:VEVENT
DTSTART:20241029T161400
DTEND:20241101T210000
DTSTAMP:20241029T201522
CREATED:20241029T201522
SUMMARY:Ημερίδα: «Η επόμενη μέρα στον κλάδο των τροφίμων: Καινοτομία &#8211; Βιωσιμότητα &#8211; Εξωστρέφεια» | Παρασκευή 1 Νοεμβρίου 2024
DESCRIPTION:{"color": "2D4263"}
URL:https://www.ba.ihu.gr/en/events/%ce%b7%ce%bc%ce%b5%cf%81%ce%af%ce%b4%ce%b1-%ce%b7-%ce%b5%cf%80%cf%8c%ce%bc%ce%b5%ce%bd%ce%b7-%ce%bc%ce%ad%cf%81%ce%b1-%cf%83%cf%84%ce%bf%ce%bd-%ce%ba%ce%bb%ce%ac%ce%b4%ce%bf-%cf%84%cf%89%ce%bd/
UID: EVENT-4820
LAST-MODIFIED:20241029T201522
TRANSP:OPAQUE
END:VEVENT
END:VCALENDAR